BEGIN:VCALENDAR
VERSION:2.0
PRODID:-//Nordic AML Group - ECPv6.15.20//NONSGML v1.0//EN
CALSCALE:GREGORIAN
METHOD:PUBLISH
X-ORIGINAL-URL:https://www.namlg.org
X-WR-CALDESC:Events for Nordic AML Group
REFRESH-INTERVAL;VALUE=DURATION:PT1H
X-Robots-Tag:noindex
X-PUBLISHED-TTL:PT1H
BEGIN:VTIMEZONE
TZID:Europe/Paris
BEGIN:DAYLIGHT
TZOFFSETFROM:+0100
TZOFFSETTO:+0200
TZNAME:CEST
DTSTART:20240331T010000
END:DAYLIGHT
BEGIN:STANDARD
TZOFFSETFROM:+0200
TZOFFSETTO:+0100
TZNAME:CET
DTSTART:20241027T010000
END:STANDARD
BEGIN:DAYLIGHT
TZOFFSETFROM:+0100
TZOFFSETTO:+0200
TZNAME:CEST
DTSTART:20250330T010000
END:DAYLIGHT
BEGIN:STANDARD
TZOFFSETFROM:+0200
TZOFFSETTO:+0100
TZNAME:CET
DTSTART:20251026T010000
END:STANDARD
BEGIN:DAYLIGHT
TZOFFSETFROM:+0100
TZOFFSETTO:+0200
TZNAME:CEST
DTSTART:20260329T010000
END:DAYLIGHT
BEGIN:STANDARD
TZOFFSETFROM:+0200
TZOFFSETTO:+0100
TZNAME:CET
DTSTART:20261025T010000
END:STANDARD
END:VTIMEZONE
BEGIN:VEVENT
DTSTART;TZID=Europe/Paris:20250317T120000
DTEND;TZID=Europe/Paris:20250317T140000
DTSTAMP:20260421T232538
CREATED:20250307T051600Z
LAST-MODIFIED:20250307T051600Z
UID:10000022-1742212800-1742220000@www.namlg.org
SUMMARY:NAMLG Lunch Meeting in Munich
DESCRIPTION:For Nordic AML physicians attending the Acute Leukemia Symposium ISALXIX in Munich 16-19th March 2025\, You are cordially invited to a NAMLG Lunch Meeting in\non Monday March 17th\, 12.00-14.00. Find more info in this flyer. [With support from Servier and the organizing committee in Munich.]
URL:https://www.namlg.org/event/namlg-lunch-meeting-in-munich/
END:VEVENT
END:VCALENDAR